BEGIN:VCALENDAR
VERSION:2.0
PRODID:Spatie calendar-links
BEGIN:VEVENT
UID:1e30d3637c3d7daa1c5cf1b9ab10dce8
SUMMARY:Winter Market
DTSTAMP;TZID=America/Vancouver:20231118T090000
DTSTART;TZID=America/Vancouver:20231118T090000
DTEND;TZID=America/Vancouver:20231118T150000
END:VEVENT
END:VCALENDAR