BEGIN:VCALENDAR
VERSION:2.0
PRODID:Spatie calendar-links
BEGIN:VEVENT
UID:393c50fd2d59bc1822e08375a78e669f
SUMMARY:Quebec - - WORLDWIDE RALLY MARCH 20TH\, 2021
DTSTAMP;TZID=America/Toronto:20210320T120000
DTSTART;TZID=America/Toronto:20210320T120000
DTEND;TZID=America/Toronto:20210320T150000
LOCATION:Quebec City\, QC\, Canada
END:VEVENT
END:VCALENDAR