BEGIN:VCALENDAR
VERSION:2.0
PRODID:Spatie calendar-links
BEGIN:VEVENT
UID:310f7ae67a39f16d5565407b1c736151
SUMMARY:Christmas Craft Sale
DTSTAMP;TZID=America/Vancouver:20231203T100000
DTSTART;TZID=America/Vancouver:20231203T100000
DTEND;TZID=America/Vancouver:20231203T150000
END:VEVENT
END:VCALENDAR