BEGIN:VCALENDAR
VERSION:2.0
PRODID:Spatie calendar-links
BEGIN:VEVENT
UID:dc1983422e680da8afe8acd53234345f
SUMMARY:Canyon Falls Middle School Winter Market
DTSTAMP;TZID=America/Vancouver:20231126T100000
DTSTART;TZID=America/Vancouver:20231126T100000
DTEND;TZID=America/Vancouver:20231126T150000
END:VEVENT
END:VCALENDAR