BEGIN:VCALENDAR
VERSION:2.0
PRODID:Spatie calendar-links
BEGIN:VEVENT
UID:b1ad98398167e80e69fa78d77e32d27b
SUMMARY:Christmas Craft Fair
DTSTAMP;TZID=America/Vancouver:20231210T100000
DTSTART;TZID=America/Vancouver:20231210T100000
DTEND;TZID=America/Vancouver:20231210T140000
END:VEVENT
END:VCALENDAR