BEGIN:VCALENDAR
VERSION:2.0
PRODID:Spatie calendar-links
BEGIN:VEVENT
UID:2d062d687bc63ffb0b6e12145d010bd8
SUMMARY:Nanoose-A-Paloosa!
DTSTAMP;TZID=America/Vancouver:20231125T180000
DTSTART;TZID=America/Vancouver:20231125T180000
DTEND;TZID=America/Vancouver:20231125T230000
END:VEVENT
END:VCALENDAR