BEGIN:VCALENDAR
VERSION:2.0
PRODID:Spatie calendar-links
BEGIN:VEVENT
UID:837bbd12ded82b06c5d8507bc8525b9a
SUMMARY:Uplift Your Wellness Expo
DTSTAMP;TZID=America/Vancouver:20240224T110000
DTSTART;TZID=America/Vancouver:20240224T110000
DTEND;TZID=America/Vancouver:20240224T150000
END:VEVENT
END:VCALENDAR