BEGIN:VCALENDAR
VERSION:2.0
PRODID:Spatie calendar-links
BEGIN:VEVENT
UID:4f991647bfe0db390584a1fb0161be6a
SUMMARY:Uplift Your Wellness Expo\, St Patrick's Day Celebration
DTSTAMP;TZID=America/Vancouver:20240317T120000
DTSTART;TZID=America/Vancouver:20240317T120000
DTEND;TZID=America/Vancouver:20240317T160000
END:VEVENT
END:VCALENDAR