BEGIN:VCALENDAR
VERSION:2.0
PRODID:Spatie calendar-links
BEGIN:VEVENT
UID:edfc6371efa4803e52b2c1a9803823f0
SUMMARY:Easter Market!
DTSTAMP;TZID=America/Vancouver:20240324T130000
DTSTART;TZID=America/Vancouver:20240324T130000
DTEND;TZID=America/Vancouver:20240324T170000
END:VEVENT
END:VCALENDAR