BEGIN:VCALENDAR
VERSION:2.0
PRODID:Spatie calendar-links
BEGIN:VEVENT
UID:5bc54362a860efcdbfb957c678909f3a
SUMMARY:liberti.com/events
DTSTAMP;TZID=America/Vancouver:20250524T000000
DTSTART;TZID=America/Vancouver:20250524T000000
DTEND;TZID=America/Vancouver:20250525T000000
END:VEVENT
END:VCALENDAR