BEGIN:VCALENDAR
VERSION:2.0
PRODID:Spatie calendar-links
BEGIN:VEVENT
UID:abbd7a37039fc1a705c8f0cb5c42caa5
SUMMARY:10th Annual Galactic Wisdom Conference
DTSTAMP;TZID=America/Los_Angeles:20250426T000000
DTSTART;TZID=America/Los_Angeles:20250426T000000
DTEND;TZID=America/Los_Angeles:20250427T000000
END:VEVENT
END:VCALENDAR