BEGIN:VCALENDAR
VERSION:2.0
PRODID:Spatie calendar-links
BEGIN:VEVENT
UID:a841ff562a612daf9bf1880cbb1502b3
SUMMARY:Winnipeg - WORLDWIDE RALLY MARCH 20TH\, 2021
DTSTAMP;TZID=America/Winnipeg:20210320T130000
DTSTART;TZID=America/Winnipeg:20210320T130000
DTEND;TZID=America/Winnipeg:20210320T160000
LOCATION:85 Israel Asper Way\, Winnipeg\, MB\, Canada
END:VEVENT
END:VCALENDAR