BEGIN:VCALENDAR
VERSION:2.0
PRODID:Spatie calendar-links
BEGIN:VEVENT
UID:3e9047cf01303ea5346b3f4a72c57348
SUMMARY:US Constitutional Convention 2026
DTSTAMP;TZID=Atlantic/Reykjavik:20260101T000000
DTSTART;TZID=Atlantic/Reykjavik:20260101T000000
DTEND;TZID=Atlantic/Reykjavik:20260706T000000
END:VEVENT
END:VCALENDAR