BEGIN:VCALENDAR
VERSION:2.0
PRODID:Spatie calendar-links
BEGIN:VEVENT
UID:5f0daf3acf26f6c808236669bb27aa0e
SUMMARY:Workshop - The Importance of Addressing Synthetic Biology When Addressing Chronic Illness
DTSTAMP;TZID=America/Vancouver:20260411T130000
DTSTART;TZID=America/Vancouver:20260411T130000
DTEND;TZID=America/Vancouver:20260411T160000
END:VEVENT
END:VCALENDAR