BEGIN:VCALENDAR
VERSION:2.0
PRODID:Spatie calendar-links
BEGIN:VEVENT
UID:c5ad96b6317ed91df7673d23b64948b0
SUMMARY:Collingwood\, Ont - WORLDWIDE RALLY MARCH 20TH\, 2021
DTSTAMP;TZID=America/Toronto:20210320T120000
DTSTART;TZID=America/Toronto:20210320T120000
DTEND;TZID=America/Toronto:20210320T150000
LOCATION:Collingwood\, ON\, Canada
END:VEVENT
END:VCALENDAR