BEGIN:VCALENDAR
VERSION:2.0
PRODID:Spatie calendar-links
BEGIN:VEVENT
UID:ec763714b53b7b152e4b23548722318d
SUMMARY:Timmins\, Ont - WORLDWIDE RALLY MARCH 20TH\, 2021
DTSTAMP;TZID=America/Toronto:20210320T120000
DTSTART;TZID=America/Toronto:20210320T120000
DTEND;TZID=America/Toronto:20210320T150000
LOCATION:565 Algonquin Boulevard East\, Timmins\, ON\, Canada
END:VEVENT
END:VCALENDAR