BEGIN:VCALENDAR
VERSION:2.0
PRODID:Spatie calendar-links
BEGIN:VEVENT
UID:ddc2047ba33ee659098ec31bca131a70
SUMMARY:Newfoundland - WORLDWIDE RALLY MARCH 20TH\, 2021
DTSTAMP;TZID=America/St_Johns:20210320T130000
DTSTART;TZID=America/St_Johns:20210320T130000
DTEND;TZID=America/St_Johns:20210320T160000
LOCATION:St. John's\, NL\, Canada
END:VEVENT
END:VCALENDAR