BEGIN:VCALENDAR
VERSION:2.0
PRODID:Spatie calendar-links
BEGIN:VEVENT
UID:6b7cb8dbeefd1beadf113fd312a190ac
SUMMARY:Whitehorse - WORLDWIDE RALLY MARCH 20TH\, 2021
DTSTAMP;TZID=America/Vancouver:20210320T120000
DTSTART;TZID=America/Vancouver:20210320T120000
DTEND;TZID=America/Vancouver:20210321T000000
LOCATION:300 Main Street\, Whitehorse\, YT\, Canada
END:VEVENT
END:VCALENDAR