BEGIN:VCALENDAR
VERSION:2.0
PRODID:Spatie calendar-links
BEGIN:VEVENT
UID:f5753e309933cd8feed1b0ea0382f813
SUMMARY:Save BC Small Business
DTSTAMP;TZID=America/Vancouver:20210402T140000
DTSTART;TZID=America/Vancouver:20210402T140000
DTEND;TZID=America/Vancouver:20210402T160000
LOCATION:453 West 12th Avenue\, Vancouver\, BC\, Canada
END:VEVENT
END:VCALENDAR