BEGIN:VCALENDAR
VERSION:2.0
PRODID:Spatie calendar-links
BEGIN:VEVENT
UID:51bac825f341f2cfcdab51325baefb39
SUMMARY:FREEDOM RALLY
DTSTAMP;TZID=America/Vancouver:20210410T100000
DTSTART;TZID=America/Vancouver:20210410T100000
DTEND;TZID=America/Vancouver:20210410T120000
LOCATION:2187 Ospika Boulevard South\, Prince George\, BC\, Canada
END:VEVENT
END:VCALENDAR