BEGIN:VCALENDAR
VERSION:2.0
PRODID:Spatie calendar-links
BEGIN:VEVENT
UID:10fa7817dcda4325f71ae57d7d0f6353
SUMMARY:Canadian Frontline Nurses Protesting Against Censoring of Nurses
DTSTAMP;TZID=America/Toronto:20210414T110000
DTSTART;TZID=America/Toronto:20210414T110000
DTEND;TZID=America/Toronto:20210414T140000
LOCATION:101 Davenport Rd\, Toronto\, Ontario\, Canada
END:VEVENT
END:VCALENDAR