BEGIN:VCALENDAR
VERSION:2.0
PRODID:Spatie calendar-links
BEGIN:VEVENT
UID:f0c746eb74e2ff60cc6cf7370b4936b1
SUMMARY:FREEDOM FOR TRUTH CONFERENCE
DTSTAMP;TZID=America/Los_Angeles:20210416T100000
DTSTART;TZID=America/Los_Angeles:20210416T100000
DTEND;TZID=America/Los_Angeles:20210416T120000
END:VEVENT
END:VCALENDAR