BEGIN:VCALENDAR
VERSION:2.0
PRODID:Spatie calendar-links
BEGIN:VEVENT
UID:a29449aff3c242daf7c8c130a403ceb1
SUMMARY:Fraser Valley Freedom Rally
DTSTAMP;TZID=America/Vancouver:20210508T120000
DTSTART;TZID=America/Vancouver:20210508T120000
DTEND;TZID=America/Vancouver:20210508T150000
LOCATION:45951 Victoria Avenue\, Chilliwack\, BC\, Canada
END:VEVENT
END:VCALENDAR