BEGIN:VCALENDAR
VERSION:2.0
PRODID:Spatie calendar-links
BEGIN:VEVENT
UID:eff98ce39d19fd1f7efe0a37274bfddc
SUMMARY:World Wide Rally May 15th Vancouver
DTSTAMP;TZID=America/Vancouver:20210515T123000
DTSTART;TZID=America/Vancouver:20210515T123000
DTEND;TZID=America/Vancouver:20210515T163000
LOCATION:750 Hornby Street\, Vancouver\, BC\, Canada
END:VEVENT
END:VCALENDAR