BEGIN:VCALENDAR
VERSION:2.0
PRODID:Spatie calendar-links
BEGIN:VEVENT
UID:87ab093359966983770b20831af46d58
SUMMARY:World Wide Rally May 15th London
DTSTAMP;TZID=America/Toronto:20210515T130000
DTSTART;TZID=America/Toronto:20210515T130000
DTEND;TZID=America/Toronto:20210515T170000
LOCATION:London\, Ontario\, Canada
END:VEVENT
END:VCALENDAR