BEGIN:VCALENDAR
VERSION:2.0
PRODID:Spatie calendar-links
BEGIN:VEVENT
UID:bcc3aa04c067d4c375f897df480df185
SUMMARY:World Wide Rally May 15th Ottawa
DTSTAMP;TZID=America/Toronto:20210515T140000
DTSTART;TZID=America/Toronto:20210515T140000
DTEND;TZID=America/Toronto:20210515T170000
LOCATION:Ottawa\, Ontario\, Canada
END:VEVENT
END:VCALENDAR