BEGIN:VCALENDAR
VERSION:2.0
PRODID:Spatie calendar-links
BEGIN:VEVENT
UID:763b0ffd77356d70c42c54f83ad8d487
SUMMARY:World Wide Rally May 15th Calgary
DTSTAMP;TZID=America/Edmonton:20210515T130000
DTSTART;TZID=America/Edmonton:20210515T130000
DTEND;TZID=America/Edmonton:20210515T160000
LOCATION:Calgary\, Alberta\, Canada
END:VEVENT
END:VCALENDAR