BEGIN:VCALENDAR
VERSION:2.0
PRODID:Spatie calendar-links
BEGIN:VEVENT
UID:66da3481e8975ad344bef241e1e4c3fa
SUMMARY:Abbotsford Freedom Rally May 7th
DTSTAMP;TZID=America/Vancouver:20210507T170000
DTSTART;TZID=America/Vancouver:20210507T170000
DTEND;TZID=America/Vancouver:20210507T200000
LOCATION:1818 McCallum Rd\, Abbotsford\, BC\, Canada
END:VEVENT
END:VCALENDAR