BEGIN:VCALENDAR
VERSION:2.0
PRODID:Spatie calendar-links
BEGIN:VEVENT
UID:d84e05c57d2ce7c3c98846d1e4397ca1
SUMMARY:Restaurants Against the Great Reset
DTSTAMP;TZID=America/Vancouver:20210423T180000
DTSTART;TZID=America/Vancouver:20210423T180000
DTEND;TZID=America/Vancouver:20210423T200000
LOCATION:1943 Cornwall Ave\, Vancouver\, British Columbia\, Canada
END:VEVENT
END:VCALENDAR