BEGIN:VCALENDAR
VERSION:2.0
PRODID:Spatie calendar-links
BEGIN:VEVENT
UID:95d30b876194f0db6beeff7eb4f57388
SUMMARY:Vancouver Freedom Rally & March
DTSTAMP;TZID=America/Los_Angeles:20210420T180000
DTSTART;TZID=America/Los_Angeles:20210420T180000
DTEND;TZID=America/Los_Angeles:20210420T210000
END:VEVENT
END:VCALENDAR